BEGIN:VCALENDAR
VERSION:2.0
PRODID:-//hacksw/handcal//NONSGML v1.0//EN
BEGIN:VEVENT
SUMMARY:Match vs Angers HBC
UID:bd22ebbb-4adf-423f-818f-f395a563f246
DTSTART:20260320T190000Z
DTEND:20260320T230000Z
LOCATION:Localisation College Montaigne 49000 Angers
CATEGORIES:Sportif
STATUS:
URL;VALUE=URI:https://hbc-authion.sportsregions.fr/evenements/2026/03/20/match-vs-angers-hbc-2430825
END:VEVENT
BEGIN:VEVENT
SUMMARY:Soiree du club
UID:4711f766-81e5-452f-883a-acdd18845897
DTSTART:20260321T190000Z
DTEND:20260321T230000Z
LOCATION:Localisation Allee du Clos 49630 Maze-Milon
CATEGORIES:Festif
STATUS:
URL;VALUE=URI:https://hbc-authion.sportsregions.fr/evenements/2026/03/21/soiree-du-club-2429526
END:VEVENT
END:VCALENDAR
